BEGIN:VCALENDAR
VERSION:2.0
PRODID:-//Sayaboury Tourism - ECPv6.15.20//NONSGML v1.0//EN
CALSCALE:GREGORIAN
METHOD:PUBLISH
X-WR-CALNAME:Sayaboury Tourism
X-ORIGINAL-URL:https://www.tourismsayaboury.org
X-WR-CALDESC:Events for Sayaboury Tourism
REFRESH-INTERVAL;VALUE=DURATION:PT1H
X-Robots-Tag:noindex
X-PUBLISHED-TTL:PT1H
BEGIN:VTIMEZONE
TZID:UTC
BEGIN:STANDARD
TZOFFSETFROM:+0000
TZOFFSETTO:+0000
TZNAME:UTC
DTSTART:20170101T000000
END:STANDARD
END:VTIMEZONE
BEGIN:VEVENT
DTSTART;VALUE=DATE:20180130
DTEND;VALUE=DATE:20180203
DTSTAMP:20260422T163728
CREATED:20180107T051750Z
LAST-MODIFIED:20180107T061834Z
UID:8040-1517270400-1517615999@www.tourismsayaboury.org
SUMMARY:Boun Pha That Sikhottabong Stupa Festival
DESCRIPTION:30th January – 2nd February 2018\nBoun Pha That Sikhottabong Stupa Festival\nKhammouane Province
URL:https://www.tourismsayaboury.org/event/boun-pha-that-sikhottabong-stupa-festival/
ATTACH;FMTTYPE=image/jpeg:https://www.tourismsayaboury.org/wp-content/uploads/2017/08/sikhottabong.jpg
END:VEVENT
END:VCALENDAR