BEGIN:VCALENDAR
VERSION:2.0
PRODID:-//Sayaboury Tourism - ECPv6.15.20//NONSGML v1.0//EN
CALSCALE:GREGORIAN
METHOD:PUBLISH
X-WR-CALNAME:Sayaboury Tourism
X-ORIGINAL-URL:https://www.tourismsayaboury.org
X-WR-CALDESC:Events for Sayaboury Tourism
REFRESH-INTERVAL;VALUE=DURATION:PT1H
X-Robots-Tag:noindex
X-PUBLISHED-TTL:PT1H
BEGIN:VTIMEZONE
TZID:UTC
BEGIN:STANDARD
TZOFFSETFROM:+0000
TZOFFSETTO:+0000
TZNAME:UTC
DTSTART:20170101T000000
END:STANDARD
END:VTIMEZONE
BEGIN:VEVENT
DTSTART;VALUE=DATE:20180515
DTEND;VALUE=DATE:20180518
DTSTAMP:20260422T062139
CREATED:20180107T052856Z
LAST-MODIFIED:20180107T052856Z
UID:8045-1526342400-1526601599@www.tourismsayaboury.org
SUMMARY:Keo Lak Muong (Cristal Pillar) and Leaders’ Caves Festival
DESCRIPTION:15th – 17th May\nKeo Lak Muong (Cristal Pillar) and Leaders’ Caves Festival\nHuaphan Province
URL:https://www.tourismsayaboury.org/event/keo-lak-muong-cristal-pillar-and-leaders-caves-festival/
ATTACH;FMTTYPE=image/jpeg:https://www.tourismsayaboury.org/wp-content/uploads/2017/08/cave.jpg
END:VEVENT
END:VCALENDAR