BEGIN:VCALENDAR
VERSION:2.0
PRODID:-//Sayaboury Tourism - ECPv6.15.20//NONSGML v1.0//EN
CALSCALE:GREGORIAN
METHOD:PUBLISH
X-ORIGINAL-URL:https://www.tourismsayaboury.org
X-WR-CALDESC:Events for Sayaboury Tourism
REFRESH-INTERVAL;VALUE=DURATION:PT1H
X-Robots-Tag:noindex
X-PUBLISHED-TTL:PT1H
BEGIN:VTIMEZONE
TZID:UTC
BEGIN:STANDARD
TZOFFSETFROM:+0000
TZOFFSETTO:+0000
TZNAME:UTC
DTSTART:20170101T000000
END:STANDARD
END:VTIMEZONE
BEGIN:VEVENT
DTSTART;VALUE=DATE:20180130
DTEND;VALUE=DATE:20180203
DTSTAMP:20260422T222016
CREATED:20180107T051750Z
LAST-MODIFIED:20180107T061834Z
UID:8040-1517270400-1517615999@www.tourismsayaboury.org
SUMMARY:Boun Pha That Sikhottabong Stupa Festival
DESCRIPTION:30th January – 2nd February 2018\nBoun Pha That Sikhottabong Stupa Festival\nKhammouane Province
URL:https://www.tourismsayaboury.org/event/boun-pha-that-sikhottabong-stupa-festival/
ATTACH;FMTTYPE=image/jpeg:https://www.tourismsayaboury.org/wp-content/uploads/2017/08/sikhottabong.jpg
END:VEVENT
BEGIN:VEVENT
DTSTART;VALUE=DATE:20180207
DTEND;VALUE=DATE:20180213
DTSTAMP:20260422T222016
CREATED:20180107T050302Z
LAST-MODIFIED:20180107T050302Z
UID:8030-1517961600-1518479999@www.tourismsayaboury.org
SUMMARY:Kapok Blossom Festival
DESCRIPTION:7th – 12th February 2018\nKapok Blossom Festival\nBokeo Province
URL:https://www.tourismsayaboury.org/event/kapok-blossom-festival/
END:VEVENT
BEGIN:VEVENT
DTSTART;VALUE=DATE:20180216
DTEND;VALUE=DATE:20180219
DTSTAMP:20260422T222016
CREATED:20180107T050845Z
LAST-MODIFIED:20180107T051240Z
UID:8032-1518739200-1518998399@www.tourismsayaboury.org
SUMMARY:Elephant Festival
DESCRIPTION:16th – 18th February 2018\nElephant Festival\nSayabouly Province
URL:https://www.tourismsayaboury.org/event/elephant-festival/
ATTACH;FMTTYPE=image/jpeg:https://www.tourismsayaboury.org/wp-content/uploads/2017/08/elefest.jpg
END:VEVENT
BEGIN:VEVENT
DTSTART;VALUE=DATE:20180216
DTEND;VALUE=DATE:20180219
DTSTAMP:20260422T222016
CREATED:20180107T051321Z
LAST-MODIFIED:20180107T051634Z
UID:8037-1518739200-1518998399@www.tourismsayaboury.org
SUMMARY:Boun Vat Phou Festival
DESCRIPTION:16th – 18th February 2018\nBoun Vat Phou Festival\nChampasak Province
URL:https://www.tourismsayaboury.org/event/boun-vat-phou-festival/
ATTACH;FMTTYPE=image/jpeg:https://www.tourismsayaboury.org/wp-content/uploads/2017/08/vatphu.jpg
END:VEVENT
BEGIN:VEVENT
DTSTART;VALUE=DATE:20180413
DTEND;VALUE=DATE:20180417
DTSTAMP:20260422T222016
CREATED:20180107T052238Z
LAST-MODIFIED:20180107T052501Z
UID:8042-1523577600-1523923199@www.tourismsayaboury.org
SUMMARY:Lao New Year
DESCRIPTION:13th – 16th April 2018\nLao New Year\nLuang Prabang Province
URL:https://www.tourismsayaboury.org/event/lao-new-year/
ATTACH;FMTTYPE=image/jpeg:https://www.tourismsayaboury.org/wp-content/uploads/2017/08/pimai.jpg
END:VEVENT
BEGIN:VEVENT
DTSTART;VALUE=DATE:20180515
DTEND;VALUE=DATE:20180518
DTSTAMP:20260422T222016
CREATED:20180107T052856Z
LAST-MODIFIED:20180107T052856Z
UID:8045-1526342400-1526601599@www.tourismsayaboury.org
SUMMARY:Keo Lak Muong (Cristal Pillar) and Leaders’ Caves Festival
DESCRIPTION:15th – 17th May\nKeo Lak Muong (Cristal Pillar) and Leaders’ Caves Festival\nHuaphan Province
URL:https://www.tourismsayaboury.org/event/keo-lak-muong-cristal-pillar-and-leaders-caves-festival/
ATTACH;FMTTYPE=image/jpeg:https://www.tourismsayaboury.org/wp-content/uploads/2017/08/cave.jpg
END:VEVENT
BEGIN:VEVENT
DTSTART;VALUE=DATE:20180918
DTEND;VALUE=DATE:20180921
DTSTAMP:20260422T222016
CREATED:20180107T053203Z
LAST-MODIFIED:20180107T053203Z
UID:8048-1537228800-1537487999@www.tourismsayaboury.org
SUMMARY:Boat racing Festival
DESCRIPTION:18th – 20th September 2018\nBoat racing Festival\nSalavanh Province
URL:https://www.tourismsayaboury.org/event/boat-racing-festival/
ATTACH;FMTTYPE=image/jpeg:https://www.tourismsayaboury.org/wp-content/uploads/2017/08/boat.jpg
END:VEVENT
BEGIN:VEVENT
DTSTART;VALUE=DATE:20181025
DTEND;VALUE=DATE:20181026
DTSTAMP:20260422T222016
CREATED:20180107T053808Z
LAST-MODIFIED:20180107T054952Z
UID:8054-1540425600-1540511999@www.tourismsayaboury.org
SUMMARY:Boat Racing Festival
DESCRIPTION:25th October 2018\nBoat Racing Festival\nKhua District\nPhongsaly Province
URL:https://www.tourismsayaboury.org/event/boat-racing-festival-2/
ATTACH;FMTTYPE=image/jpeg:https://www.tourismsayaboury.org/wp-content/uploads/2017/08/boat2.jpg
END:VEVENT
BEGIN:VEVENT
DTSTART;VALUE=DATE:20181105
DTEND;VALUE=DATE:20181109
DTSTAMP:20260422T222016
CREATED:20180107T055741Z
LAST-MODIFIED:20180107T055741Z
UID:8060-1541376000-1541721599@www.tourismsayaboury.org
SUMMARY:Boun Khao Kai Noy Festival
DESCRIPTION:5th – 8th November 2018\nBoun Khao Kai Noy Festival\nXiengkhuang Province
URL:https://www.tourismsayaboury.org/event/boun-khao-kai-noy-festival/
END:VEVENT
BEGIN:VEVENT
DTSTART;VALUE=DATE:20181117
DTEND;VALUE=DATE:20181123
DTSTAMP:20260422T222016
CREATED:20180107T053417Z
LAST-MODIFIED:20180107T053714Z
UID:8051-1542412800-1542931199@www.tourismsayaboury.org
SUMMARY:That Luang Festival
DESCRIPTION:17th – 22nd November 2018\nThat Luang Festival\nVientiane Province
URL:https://www.tourismsayaboury.org/event/that-luang-festival/
ATTACH;FMTTYPE=image/jpeg:https://www.tourismsayaboury.org/wp-content/uploads/2017/08/thatluang.jpg
END:VEVENT
BEGIN:VEVENT
DTSTART;VALUE=DATE:20181127
DTEND;VALUE=DATE:20181204
DTSTAMP:20260422T222016
CREATED:20180107T055405Z
LAST-MODIFIED:20180107T055405Z
UID:8057-1543276800-1543881599@www.tourismsayaboury.org
SUMMARY:That Inghang Stupa Festival
DESCRIPTION:27th November – 3rd December 2018\nThat Inghang Stupa Festival\nSavannakhet Province
URL:https://www.tourismsayaboury.org/event/that-inghang-stupa-festival/
ATTACH;FMTTYPE=image/jpeg:https://www.tourismsayaboury.org/wp-content/uploads/2017/08/thatinghang.jpg
END:VEVENT
BEGIN:VEVENT
DTSTART;VALUE=DATE:20181203
DTEND;VALUE=DATE:20181207
DTSTAMP:20260422T222016
CREATED:20180107T060535Z
LAST-MODIFIED:20180107T060535Z
UID:8068-1543795200-1544140799@www.tourismsayaboury.org
SUMMARY:Boun Pha Chao Saysettha Stupa Festival
DESCRIPTION:3rd – 6th December 2018\nBoun Pha Chao Saysettha Stupa Festival\nAttapeu Province
URL:https://www.tourismsayaboury.org/event/boun-pha-chao-saysettha-stupa-festival/
END:VEVENT
BEGIN:VEVENT
DTSTART;VALUE=DATE:20181230
DTEND;VALUE=DATE:20190102
DTSTAMP:20260422T222016
CREATED:20180107T050131Z
LAST-MODIFIED:20180107T050131Z
UID:8026-1546128000-1546387199@www.tourismsayaboury.org
SUMMARY:Boun Phabath Phonesan Stupa Festival
DESCRIPTION:30th December 2018 – 1st January 2019\nBoun Phabath Phonesan Stupa Festival\nBolikhamxay Province
URL:https://www.tourismsayaboury.org/event/boun-phabath-phonesan-stupa-festival/
END:VEVENT
BEGIN:VEVENT
DTSTART;VALUE=DATE:20181230
DTEND;VALUE=DATE:20190104
DTSTAMP:20260422T222016
CREATED:20180107T060012Z
LAST-MODIFIED:20180107T060226Z
UID:8062-1546128000-1546559999@www.tourismsayaboury.org
SUMMARY:Boun Kinchieng (Hmong New Year)
DESCRIPTION:Late December 2018 – Early January 2019\nBoun Kinchieng (Hmong New Year) \nKm 52\, Vientiane Province \nXaysomboun Province \nLuang Prabang Province
URL:https://www.tourismsayaboury.org/event/boun-kinchieng-hmong-new-year/
ATTACH;FMTTYPE=image/jpeg:https://www.tourismsayaboury.org/wp-content/uploads/2017/08/hmongnewyear.jpg
END:VEVENT
END:VCALENDAR