BEGIN:VCALENDAR
VERSION:2.0
PRODID:-//Sayaboury Tourism - ECPv6.15.20//NONSGML v1.0//EN
CALSCALE:GREGORIAN
METHOD:PUBLISH
X-WR-CALNAME:Sayaboury Tourism
X-ORIGINAL-URL:https://www.tourismsayaboury.org
X-WR-CALDESC:Events for Sayaboury Tourism
REFRESH-INTERVAL;VALUE=DURATION:PT1H
X-Robots-Tag:noindex
X-PUBLISHED-TTL:PT1H
BEGIN:VTIMEZONE
TZID:UTC
BEGIN:STANDARD
TZOFFSETFROM:+0000
TZOFFSETTO:+0000
TZNAME:UTC
DTSTART:20170101T000000
END:STANDARD
END:VTIMEZONE
BEGIN:VEVENT
DTSTART;TZID=UTC:20180108T000000
DTEND;TZID=UTC:20180108T000000
DTSTAMP:20260422T010412
CREATED:20180108T011147Z
LAST-MODIFIED:20180108T011147Z
UID:8066-1515369600-1515369600@www.tourismsayaboury.org
SUMMARY:Boun Kinchieng (Hmong New Year)
DESCRIPTION:Late December 2018 – Early January 2019\nBoun Kinchieng (Hmong New Year)\nXaysomboun Province
URL:https://www.tourismsayaboury.org/event/boun-kinchieng-hmong-new-year-2/
END:VEVENT
BEGIN:VEVENT
DTSTART;VALUE=DATE:20180101
DTEND;VALUE=DATE:20180102
DTSTAMP:20260422T010412
CREATED:20180107T043651Z
LAST-MODIFIED:20180107T045648Z
UID:8014-1514764800-1514851199@www.tourismsayaboury.org
SUMMARY:Khmu New Year
DESCRIPTION:Late December 2017 – Early January 2018\n Khmu New Year\n Oudomxay Province \n  \nKhmu New Year celebrations will take place in a village close to Luang Prabang town to be held on December 15\, 2017 and involve colourful costumes\, dance\, song and traditional games. The New Year is a time for the Khmu people to gather and give thanks to their ancestors for their good health\, harvest and peaceful community. It’s also a time to pray for harmony for the coming year.
URL:https://www.tourismsayaboury.org/event/khmu-new-year/
LOCATION:Khmu New Year\, Oudomxay\, Lao People's Democratic Republic
ATTACH;FMTTYPE=image/jpeg:https://www.tourismsayaboury.org/wp-content/uploads/2017/08/khmu_fest.jpg
END:VEVENT
END:VCALENDAR