BEGIN:VCALENDAR
VERSION:2.0
PRODID:-//Sayaboury Tourism - ECPv6.15.20//NONSGML v1.0//EN
CALSCALE:GREGORIAN
METHOD:PUBLISH
X-ORIGINAL-URL:https://www.tourismsayaboury.org
X-WR-CALDESC:Events for Sayaboury Tourism
REFRESH-INTERVAL;VALUE=DURATION:PT1H
X-Robots-Tag:noindex
X-PUBLISHED-TTL:PT1H
BEGIN:VTIMEZONE
TZID:UTC
BEGIN:STANDARD
TZOFFSETFROM:+0000
TZOFFSETTO:+0000
TZNAME:UTC
DTSTART:20170101T000000
END:STANDARD
END:VTIMEZONE
BEGIN:VEVENT
DTSTART;VALUE=DATE:20180918
DTEND;VALUE=DATE:20180921
DTSTAMP:20260421T223905
CREATED:20180107T053203Z
LAST-MODIFIED:20180107T053203Z
UID:8048-1537228800-1537487999@www.tourismsayaboury.org
SUMMARY:Boat racing Festival
DESCRIPTION:18th – 20th September 2018\nBoat racing Festival\nSalavanh Province
URL:https://www.tourismsayaboury.org/event/boat-racing-festival/
ATTACH;FMTTYPE=image/jpeg:https://www.tourismsayaboury.org/wp-content/uploads/2017/08/boat.jpg
END:VEVENT
END:VCALENDAR