BEGIN:VCALENDAR
VERSION:2.0
PRODID:-//Sayaboury Tourism - ECPv6.15.20//NONSGML v1.0//EN
CALSCALE:GREGORIAN
METHOD:PUBLISH
X-ORIGINAL-URL:https://www.tourismsayaboury.org
X-WR-CALDESC:Events for Sayaboury Tourism
REFRESH-INTERVAL;VALUE=DURATION:PT1H
X-Robots-Tag:noindex
X-PUBLISHED-TTL:PT1H
BEGIN:VTIMEZONE
TZID:UTC
BEGIN:STANDARD
TZOFFSETFROM:+0000
TZOFFSETTO:+0000
TZNAME:UTC
DTSTART:20170101T000000
END:STANDARD
END:VTIMEZONE
BEGIN:VEVENT
DTSTART;VALUE=DATE:20181105
DTEND;VALUE=DATE:20181109
DTSTAMP:20260421T185741
CREATED:20180107T055741Z
LAST-MODIFIED:20180107T055741Z
UID:8060-1541376000-1541721599@www.tourismsayaboury.org
SUMMARY:Boun Khao Kai Noy Festival
DESCRIPTION:5th – 8th November 2018\nBoun Khao Kai Noy Festival\nXiengkhuang Province
URL:https://www.tourismsayaboury.org/event/boun-khao-kai-noy-festival/
END:VEVENT
BEGIN:VEVENT
DTSTART;VALUE=DATE:20181117
DTEND;VALUE=DATE:20181123
DTSTAMP:20260421T185741
CREATED:20180107T053417Z
LAST-MODIFIED:20180107T053714Z
UID:8051-1542412800-1542931199@www.tourismsayaboury.org
SUMMARY:That Luang Festival
DESCRIPTION:17th – 22nd November 2018\nThat Luang Festival\nVientiane Province
URL:https://www.tourismsayaboury.org/event/that-luang-festival/
ATTACH;FMTTYPE=image/jpeg:https://www.tourismsayaboury.org/wp-content/uploads/2017/08/thatluang.jpg
END:VEVENT
BEGIN:VEVENT
DTSTART;VALUE=DATE:20181127
DTEND;VALUE=DATE:20181204
DTSTAMP:20260421T185741
CREATED:20180107T055405Z
LAST-MODIFIED:20180107T055405Z
UID:8057-1543276800-1543881599@www.tourismsayaboury.org
SUMMARY:That Inghang Stupa Festival
DESCRIPTION:27th November – 3rd December 2018\nThat Inghang Stupa Festival\nSavannakhet Province
URL:https://www.tourismsayaboury.org/event/that-inghang-stupa-festival/
ATTACH;FMTTYPE=image/jpeg:https://www.tourismsayaboury.org/wp-content/uploads/2017/08/thatinghang.jpg
END:VEVENT
END:VCALENDAR